BEGIN:VCALENDAR
VERSION:2.0
PRODID:-//wp-events-plugin.com//7.2.3.1//EN
TZID:America/New_York
X-WR-TIMEZONE:America/New_York
BEGIN:VEVENT
UID:60@frnbhp.com
DTSTART;TZID=America/New_York:20250325T163000
DTEND;TZID=America/New_York:20250325T180000
DTSTAMP:20250227T200737Z
URL:https://www.frnbhp.com/events/free-4-part-financial-skills-webinars-ma
 rch-25-intro-to-homeownership/
SUMMARY:Free 4-Part Financial Skills Webinars - March 25 Intro to Homeowner
 ship
DESCRIPTION:Join us Tuesday evenings in the month of March for a free 4-par
 t financial skills series!
ATTACH;FMTTYPE=image/jpeg:https://www.frnbhp.com/fall_river_new_bedford_ho
 using_partnership/wp-content/uploads/2025/02/download-1.png
CATEGORIES:Upcoming
LOCATION:https://zoom.us/meeting/register/pOUdHXINSu65xrYZVhs6yQ#/registrat
 ion
END:VEVENT
BEGIN:VTIMEZONE
TZID:America/New_York
X-LIC-LOCATION:America/New_York
BEGIN:DAYLIGHT
DTSTART:20250309T030000
TZOFFSETFROM:-0500
TZOFFSETTO:-0400
TZNAME:EDT
END:DAYLIGHT
END:VTIMEZONE
END:VCALENDAR